BEGIN:VCALENDAR
VERSION:2.0
PRODID:-//DIOCESI DI ROMA - ECPv4.6.14.1//NONSGML v1.0//EN
CALSCALE:GREGORIAN
METHOD:PUBLISH
X-WR-CALNAME:DIOCESI DI ROMA
X-ORIGINAL-URL:https://www.diocesidiroma.it
X-WR-CALDESC:Eventi per DIOCESI DI ROMA
BEGIN:VEVENT
DTSTART;VALUE=DATE:20180812
DTEND;VALUE=DATE:20180813
DTSTAMP:20260425T111007
CREATED:20180717T115209Z
LAST-MODIFIED:20180725T090156Z
UID:4029-1534032000-1534118399@www.diocesidiroma.it
SUMMARY:12 AGOSTO. INCONTRO NAZIONALE CON I GIOVANI ITALIANI
DESCRIPTION:12 AGOSTO. INCONTRO NAZIONALE CON I GIOVANI ITALIANI \n
URL:https://www.diocesidiroma.it/event/12-agosto-incontro-nazionale-con-i-giovani-italiani/
CATEGORIES:In Diocesi,Iniziative degli Uffici,NON USARE --- Agenda del Vicario
END:VEVENT
END:VCALENDAR