BEGIN:VCALENDAR
VERSION:2.0
PRODID:-//DIOCESI DI ROMA - ECPv4.6.14.1//NONSGML v1.0//EN
CALSCALE:GREGORIAN
METHOD:PUBLISH
X-WR-CALNAME:DIOCESI DI ROMA
X-ORIGINAL-URL:https://www.diocesidiroma.it
X-WR-CALDESC:Eventi per DIOCESI DI ROMA
BEGIN:VEVENT
DTSTART;VALUE=DATE:20180709
DTEND;VALUE=DATE:20180714
DTSTAMP:20260425T190308
CREATED:20171228T143432Z
LAST-MODIFIED:20171228T143432Z
UID:748-1531094400-1531526399@www.diocesidiroma.it
SUMMARY:2° campo estivo per adolescenti della seconda e terza media
DESCRIPTION:
URL:https://www.diocesidiroma.it/event/2-campo-estivo-per-adolescenti-della-seconda-e-terza-media/
CATEGORIES:Iniziative degli Uffici
END:VEVENT
END:VCALENDAR