BEGIN:VCALENDAR
VERSION:2.0
PRODID:-//DIOCESI DI ROMA - ECPv4.6.14.1//NONSGML v1.0//EN
CALSCALE:GREGORIAN
METHOD:PUBLISH
X-WR-CALNAME:DIOCESI DI ROMA
X-ORIGINAL-URL:https://www.diocesidiroma.it
X-WR-CALDESC:Eventi per DIOCESI DI ROMA
BEGIN:VEVENT
DTSTART;VALUE=DATE:20260207
DTEND;VALUE=DATE:20260208
DTSTAMP:20260421T192617
CREATED:20250916T134717Z
LAST-MODIFIED:20250916T134717Z
UID:37250-1770422400-1770508799@www.diocesidiroma.it
SUMMARY:2° Corso per nuovi Ministri Straordinari della Comunione 7 febbraio - 18 aprile (Ufficio per la formazione liturgica e la celebrazione dei Sacramenti)
DESCRIPTION:2° Corso per nuovi Ministri Straordinari della Comunione 7 febbraio – 18 aprile (Ufficio per la formazione liturgica e la celebrazione dei Sacramenti) \n
URL:https://www.diocesidiroma.it/event/2-corso-per-nuovi-ministri-straordinari-della-comunione-7-febbraio-18-aprile-ufficio-per-la-formazione-liturgica-e-la-celebrazione-dei-sacramenti/
CATEGORIES:In Diocesi,Iniziative degli Uffici
END:VEVENT
END:VCALENDAR