BEGIN:VCALENDAR
VERSION:2.0
PRODID:-//DIOCESI DI ROMA - ECPv4.6.14.1//NONSGML v1.0//EN
CALSCALE:GREGORIAN
METHOD:PUBLISH
X-WR-CALNAME:DIOCESI DI ROMA
X-ORIGINAL-URL:https://www.diocesidiroma.it
X-WR-CALDESC:Eventi per DIOCESI DI ROMA
BEGIN:VEVENT
DTSTART;VALUE=DATE:20260131
DTEND;VALUE=DATE:20260201
DTSTAMP:20260424T202357
CREATED:20250911T093956Z
LAST-MODIFIED:20250911T093956Z
UID:37155-1769817600-1769903999@www.diocesidiroma.it
SUMMARY:2° Incontro formativo Adoratori (Uff. per la Formazione liturgica e la celebrazione dei Sacramenti)
DESCRIPTION:2° Incontro formativo Adoratori (Uff. per la Formazione liturgica e la celebrazione dei Sacramenti) \n
URL:https://www.diocesidiroma.it/event/2-incontro-formativo-adoratori-uff-per-la-formazione-liturgica-e-la-celebrazione-dei-sacramenti/
CATEGORIES:In Diocesi,Iniziative degli Uffici
END:VEVENT
END:VCALENDAR