BEGIN:VCALENDAR
VERSION:2.0
PRODID:-//DIOCESI DI ROMA - ECPv4.6.14.1//NONSGML v1.0//EN
CALSCALE:GREGORIAN
METHOD:PUBLISH
X-WR-CALNAME:DIOCESI DI ROMA
X-ORIGINAL-URL:https://www.diocesidiroma.it
X-WR-CALDESC:Eventi per DIOCESI DI ROMA
BEGIN:VEVENT
DTSTART;VALUE=DATE:20191201
DTEND;VALUE=DATE:20191202
DTSTAMP:20260421T010912
CREATED:20190917T104647Z
LAST-MODIFIED:20190917T104712Z
UID:8507-1575158400-1575244799@www.diocesidiroma.it
SUMMARY:25° beatificazione di Isidor Bakanja
DESCRIPTION:L’Ufficio per la pastorale missionaria ricorda il 25mo anniversario della Comunità congolese e la beatificazione del Beato Isidor Bakanja \n
URL:https://www.diocesidiroma.it/event/25-beatificazione-di-isidor-bakanja/
CATEGORIES:Ricorrenze
END:VEVENT
END:VCALENDAR