BEGIN:VCALENDAR
VERSION:2.0
PRODID:-//DIOCESI DI ROMA - ECPv4.6.14.1//NONSGML v1.0//EN
CALSCALE:GREGORIAN
METHOD:PUBLISH
X-WR-CALNAME:DIOCESI DI ROMA
X-ORIGINAL-URL:https://www.diocesidiroma.it
X-WR-CALDESC:Eventi per DIOCESI DI ROMA
BEGIN:VEVENT
DTSTART;VALUE=DATE:20180117
DTEND;VALUE=DATE:20180118
DTSTAMP:20260425T190526
CREATED:20171228T121830Z
LAST-MODIFIED:20171228T121830Z
UID:516-1516147200-1516233599@www.diocesidiroma.it
SUMMARY:29° Giornata per l’approfondimento e lo sviluppo del dialogo tra cattolici ed ebrei
DESCRIPTION:
URL:https://www.diocesidiroma.it/event/29-giornata-per-lapprofondimento-e-lo-sviluppo-del-dialogo-tra-cattolici-ed-ebrei/
CATEGORIES:Giornate di sensibilizzazione
END:VEVENT
END:VCALENDAR