BEGIN:VCALENDAR
VERSION:2.0
PRODID:-//DIOCESI DI ROMA - ECPv4.6.14.1//NONSGML v1.0//EN
CALSCALE:GREGORIAN
METHOD:PUBLISH
X-WR-CALNAME:DIOCESI DI ROMA
X-ORIGINAL-URL:https://www.diocesidiroma.it
X-WR-CALDESC:Eventi per DIOCESI DI ROMA
BEGIN:VEVENT
DTSTART;VALUE=DATE:20240703
DTEND;VALUE=DATE:20240704
DTSTAMP:20260424T175602
CREATED:20240424T142132Z
LAST-MODIFIED:20240424T142321Z
UID:29773-1719964800-1720051199@www.diocesidiroma.it
SUMMARY:Settimana Sociale dei Cattolici Italiani - 3-7 luglio a Trieste (Uff. past. sociale)
DESCRIPTION:Settimana Sociale dei Cattolici Italiani – 3-7 luglio a Trieste (Uff. past. sociale) \n
URL:https://www.diocesidiroma.it/event/29773/2024-07-03/
CATEGORIES:Giornate di sensibilizzazione
END:VEVENT
END:VCALENDAR