BEGIN:VCALENDAR
VERSION:2.0
PRODID:-//DIOCESI DI ROMA - ECPv4.6.14.1//NONSGML v1.0//EN
CALSCALE:GREGORIAN
METHOD:PUBLISH
X-WR-CALNAME:DIOCESI DI ROMA
X-ORIGINAL-URL:https://www.diocesidiroma.it
X-WR-CALDESC:Eventi per DIOCESI DI ROMA
BEGIN:VEVENT
DTSTART;VALUE=DATE:20240706
DTEND;VALUE=DATE:20240707
DTSTAMP:20260425T182136
CREATED:20240424T142132Z
LAST-MODIFIED:20240424T142322Z
UID:29777-1720224000-1720310399@www.diocesidiroma.it
SUMMARY:Settimana Sociale dei Cattolici Italiani - 3-7 luglio a Trieste (Uff. past. sociale)
DESCRIPTION:Settimana Sociale dei Cattolici Italiani – 3-7 luglio a Trieste (Uff. past. sociale) \n
URL:https://www.diocesidiroma.it/event/29773/2024-07-06/
CATEGORIES:Giornate di sensibilizzazione
END:VEVENT
END:VCALENDAR