BEGIN:VCALENDAR
VERSION:2.0
PRODID:-//DIOCESI DI ROMA - ECPv4.6.14.1//NONSGML v1.0//EN
CALSCALE:GREGORIAN
METHOD:PUBLISH
X-WR-CALNAME:DIOCESI DI ROMA
X-ORIGINAL-URL:https://www.diocesidiroma.it
X-WR-CALDESC:Eventi per DIOCESI DI ROMA
BEGIN:VEVENT
DTSTART;TZID=Europe/Rome:20180521T000000
DTEND;TZID=Europe/Rome:20180521T000000
DTSTAMP:20260422T072253
CREATED:20180518T064541Z
LAST-MODIFIED:20180518T064723Z
UID:3058-1526860800-1526860800@www.diocesidiroma.it
SUMMARY:Dal pomeriggio partecipa all’Assemblea Generale della Conferenza Episcopale Italiana (fino a giovedì).
DESCRIPTION:
URL:https://www.diocesidiroma.it/event/3058/
CATEGORIES:NON USARE --- Agenda del Vicario
END:VEVENT
END:VCALENDAR