BEGIN:VCALENDAR
VERSION:2.0
PRODID:-//DIOCESI DI ROMA - ECPv4.6.14.1//NONSGML v1.0//EN
CALSCALE:GREGORIAN
METHOD:PUBLISH
X-WR-CALNAME:DIOCESI DI ROMA
X-ORIGINAL-URL:https://www.diocesidiroma.it
X-WR-CALDESC:Eventi per DIOCESI DI ROMA
BEGIN:VEVENT
DTSTART;TZID=Europe/Rome:20260115T170000
DTEND;TZID=Europe/Rome:20260115T170000
DTSTAMP:20260423T102306
CREATED:20250911T085637Z
LAST-MODIFIED:20250911T085810Z
UID:37105-1768496400-1768496400@www.diocesidiroma.it
SUMMARY:Incontro di formazione dei responsabili laici dei centri filippini - Basilica di S. Pudenziana (Uff. Migrantes per la pastorale della mobilità umana)
DESCRIPTION:Incontro di formazione dei responsabili laici dei centri filippini – Basilica di S. Pudenziana (Uff. Migrantes per la pastorale della mobilità umana) \n
URL:https://www.diocesidiroma.it/event/37105/
CATEGORIES:In Diocesi,Iniziative degli Uffici
END:VEVENT
END:VCALENDAR