BEGIN:VCALENDAR
VERSION:2.0
PRODID:-//DIOCESI DI ROMA - ECPv4.6.14.1//NONSGML v1.0//EN
CALSCALE:GREGORIAN
METHOD:PUBLISH
X-WR-CALNAME:DIOCESI DI ROMA
X-ORIGINAL-URL:https://www.diocesidiroma.it
X-WR-CALDESC:Eventi per DIOCESI DI ROMA
BEGIN:VEVENT
DTSTART;VALUE=DATE:20180805
DTEND;VALUE=DATE:20180811
DTSTAMP:20260425T162651
CREATED:20180717T114851Z
LAST-MODIFIED:20180717T114917Z
UID:4024-1533427200-1533945599@www.diocesidiroma.it
SUMMARY:PELLEGRINAGGIO DEI GIOVANI "SULLE ORME DI PAOLO" DA POZZUOLI A ROMA FINO AL 10 AGOSTO
DESCRIPTION:PELLEGRINAGGIO DEI GIOVANI “SULLE ORME DI PAOLO”\nDA POZZUOLI A ROMA FINO AL 10 AGOSTO \n
URL:https://www.diocesidiroma.it/event/4024/
CATEGORIES:In Diocesi,Iniziative degli Uffici
END:VEVENT
END:VCALENDAR