BEGIN:VCALENDAR
VERSION:2.0
PRODID:-//DIOCESI DI ROMA - ECPv4.6.14.1//NONSGML v1.0//EN
CALSCALE:GREGORIAN
METHOD:PUBLISH
X-WR-CALNAME:DIOCESI DI ROMA
X-ORIGINAL-URL:https://www.diocesidiroma.it
X-WR-CALDESC:Eventi per DIOCESI DI ROMA
BEGIN:VEVENT
DTSTART;VALUE=DATE:20260426
DTEND;VALUE=DATE:20260427
DTSTAMP:20260420T205015
CREATED:20251021T092001Z
LAST-MODIFIED:20251021T092001Z
UID:38054-1777161600-1777247999@www.diocesidiroma.it
SUMMARY:63° Giornata di preghiera per le vocazioni
DESCRIPTION:63° Giornata di preghiera per le vocazioni \n
URL:https://www.diocesidiroma.it/event/63-giornata-di-preghiera-per-le-vocazioni/
CATEGORIES:Giornate di sensibilizzazione
END:VEVENT
END:VCALENDAR