BEGIN:VCALENDAR
VERSION:2.0
PRODID:-//DIOCESI DI ROMA - ECPv4.6.14.1//NONSGML v1.0//EN
CALSCALE:GREGORIAN
METHOD:PUBLISH
X-WR-CALNAME:DIOCESI DI ROMA
X-ORIGINAL-URL:https://www.diocesidiroma.it
X-WR-CALDESC:Eventi per DIOCESI DI ROMA
BEGIN:VEVENT
DTSTART;VALUE=DATE:20180128
DTEND;VALUE=DATE:20180129
DTSTAMP:20260425T024039
CREATED:20171228T122602Z
LAST-MODIFIED:20171228T122602Z
UID:543-1517097600-1517183999@www.diocesidiroma.it
SUMMARY:65° Giornata dei malati di lebbra
DESCRIPTION:
URL:https://www.diocesidiroma.it/event/65-giornata-dei-malati-di-lebbra/
CATEGORIES:Giornate di sensibilizzazione
END:VEVENT
END:VCALENDAR