BEGIN:VCALENDAR
VERSION:2.0
PRODID:-//DIOCESI DI ROMA - ECPv4.6.14.1//NONSGML v1.0//EN
CALSCALE:GREGORIAN
METHOD:PUBLISH
X-WR-CALNAME:DIOCESI DI ROMA
X-ORIGINAL-URL:https://www.diocesidiroma.it
X-WR-CALDESC:Eventi per DIOCESI DI ROMA
BEGIN:VEVENT
DTSTART;VALUE=DATE:20171112
DTEND;VALUE=DATE:20171113
DTSTAMP:20260425T025520
CREATED:20171228T115124Z
LAST-MODIFIED:20171228T115124Z
UID:414-1510444800-1510531199@www.diocesidiroma.it
SUMMARY:67° Giornata del ringraziamento
DESCRIPTION:
URL:https://www.diocesidiroma.it/event/67-giornata-del-ringraziamento/
CATEGORIES:Giornate di sensibilizzazione
END:VEVENT
END:VCALENDAR