BEGIN:VCALENDAR
VERSION:2.0
PRODID:-//DIOCESI DI ROMA - ECPv4.6.14.1//NONSGML v1.0//EN
CALSCALE:GREGORIAN
METHOD:PUBLISH
X-WR-CALNAME:DIOCESI DI ROMA
X-ORIGINAL-URL:https://www.diocesidiroma.it
X-WR-CALDESC:Eventi per DIOCESI DI ROMA
BEGIN:VEVENT
DTSTART;TZID=Europe/Rome:20181021T000000
DTEND;TZID=Europe/Rome:20181021T000000
DTSTAMP:20260421T023328
CREATED:20180912T140335Z
LAST-MODIFIED:20180912T140335Z
UID:4426-1540080000-1540080000@www.diocesidiroma.it
SUMMARY:92° Giornata missionaria
DESCRIPTION:92° Giornata missionaria \n
URL:https://www.diocesidiroma.it/event/92-giornata-missionaria/
CATEGORIES:Giornate di sensibilizzazione
END:VEVENT
END:VCALENDAR