BEGIN:VCALENDAR
VERSION:2.0
PRODID:-//DIOCESI DI ROMA - ECPv4.6.14.1//NONSGML v1.0//EN
CALSCALE:GREGORIAN
METHOD:PUBLISH
X-WR-CALNAME:DIOCESI DI ROMA
X-ORIGINAL-URL:https://www.diocesidiroma.it
X-WR-CALDESC:Eventi per DIOCESI DI ROMA
BEGIN:VEVENT
DTSTART;TZID=Europe/Rome:20220929T160000
DTEND;TZID=Europe/Rome:20220929T160000
DTSTAMP:20260425T214114
CREATED:20220923T092011Z
LAST-MODIFIED:20220923T092011Z
UID:22595-1664467200-1664467200@www.diocesidiroma.it
SUMMARY:A Casa Serena dei Missionari della Carità celebra la Messa e presiede all’elezione del nuovo Padre Generale
DESCRIPTION:A Casa Serena dei Missionari della Carità celebra la Messa e presiede all’elezione del nuovo Padre Generale. \n
URL:https://www.diocesidiroma.it/event/a-casa-serena-dei-missionari-della-carita-celebra-la-messa-e-presiede-allelezione-del-nuovo-padre-generale/
CATEGORIES:NON USARE --- Agenda del Vicario
END:VEVENT
END:VCALENDAR