BEGIN:VCALENDAR
VERSION:2.0
PRODID:-//DIOCESI DI ROMA - ECPv4.6.14.1//NONSGML v1.0//EN
CALSCALE:GREGORIAN
METHOD:PUBLISH
X-WR-CALNAME:DIOCESI DI ROMA
X-ORIGINAL-URL:https://www.diocesidiroma.it
X-WR-CALDESC:Eventi per DIOCESI DI ROMA
BEGIN:VEVENT
DTSTART;TZID=Europe/Rome:20250522T113000
DTEND;TZID=Europe/Rome:20250522T113000
DTSTAMP:20260421T074423
CREATED:20250516T115151Z
LAST-MODIFIED:20250516T115151Z
UID:35684-1747913400-1747913400@www.diocesidiroma.it
SUMMARY:A Cascia per la Messa in onore di S. Rita
DESCRIPTION:A Cascia per la Messa in onore di S. Rita \n
URL:https://www.diocesidiroma.it/event/a-cascia-per-la-messa-in-onore-di-s-rita/
CATEGORIES:Vicario Generale
END:VEVENT
END:VCALENDAR