BEGIN:VCALENDAR
VERSION:2.0
PRODID:-//DIOCESI DI ROMA - ECPv4.6.14.1//NONSGML v1.0//EN
CALSCALE:GREGORIAN
METHOD:PUBLISH
X-WR-CALNAME:DIOCESI DI ROMA
X-ORIGINAL-URL:https://www.diocesidiroma.it
X-WR-CALDESC:Eventi per DIOCESI DI ROMA
BEGIN:VEVENT
DTSTART;VALUE=DATE:20260427
DTEND;VALUE=DATE:20260428
DTSTAMP:20260424T222700
CREATED:20260424T181832Z
LAST-MODIFIED:20260424T181832Z
UID:41071-1777248000-1777334399@www.diocesidiroma.it
SUMMARY:A Catanzaro – Visita l’Arciconfraternita dei SS. Giovanni Battista ed Evangelista (aggregata alla Basilica Lateranense)
DESCRIPTION:A Catanzaro – Visita l’Arciconfraternita dei SS. Giovanni Battista ed Evangelista (aggregata alla Basilica Lateranense) \n
URL:https://www.diocesidiroma.it/event/a-catanzaro-visita-larciconfraternita-dei-ss-giovanni-battista-ed-evangelista-aggregata-alla-basilica-lateranense/
CATEGORIES:Vicario Generale
END:VEVENT
END:VCALENDAR