BEGIN:VCALENDAR
VERSION:2.0
PRODID:-//DIOCESI DI ROMA - ECPv4.6.14.1//NONSGML v1.0//EN
CALSCALE:GREGORIAN
METHOD:PUBLISH
X-WR-CALNAME:DIOCESI DI ROMA
X-ORIGINAL-URL:https://www.diocesidiroma.it
X-WR-CALDESC:Eventi per DIOCESI DI ROMA
BEGIN:VEVENT
DTSTART;VALUE=DATE:20251228
DTEND;VALUE=DATE:20260101
DTSTAMP:20260422T001524
CREATED:20251219T100109Z
LAST-MODIFIED:20251219T100109Z
UID:39214-1766880000-1767225599@www.diocesidiroma.it
SUMMARY:A Gerusalemme visita la casa di accoglienza per sacerdoti della diocesi di Roma animata da don Filippo Morlacchi
DESCRIPTION:A Gerusalemme visita la casa di accoglienza per sacerdoti della diocesi di Roma animata da don Filippo Morlacchi \n
URL:https://www.diocesidiroma.it/event/a-gerusalemme-visita-la-casa-di-accoglienza-per-sacerdoti-della-diocesi-di-roma-animata-da-don-filippo-morlacchi/
CATEGORIES:Vicario Generale
END:VEVENT
END:VCALENDAR