BEGIN:VCALENDAR
VERSION:2.0
PRODID:-//DIOCESI DI ROMA - ECPv4.6.14.1//NONSGML v1.0//EN
CALSCALE:GREGORIAN
METHOD:PUBLISH
X-WR-CALNAME:DIOCESI DI ROMA
X-ORIGINAL-URL:https://www.diocesidiroma.it
X-WR-CALDESC:Eventi per DIOCESI DI ROMA
BEGIN:VEVENT
DTSTART;VALUE=DATE:20250215
DTEND;VALUE=DATE:20250216
DTSTAMP:20260424T225038
CREATED:20250207T085724Z
LAST-MODIFIED:20250207T085724Z
UID:33740-1739577600-1739663999@www.diocesidiroma.it
SUMMARY:A Ivrea per l’ingresso di S.E. Mons. Daniele Salera
DESCRIPTION:A Ivrea per l’ingresso di S.E. Mons. Daniele Salera \n
URL:https://www.diocesidiroma.it/event/a-ivrea-per-lingresso-di-s-e-mons-daniele-salera/
CATEGORIES:Vicario Generale
END:VEVENT
END:VCALENDAR