BEGIN:VCALENDAR
VERSION:2.0
PRODID:-//DIOCESI DI ROMA - ECPv4.6.14.1//NONSGML v1.0//EN
CALSCALE:GREGORIAN
METHOD:PUBLISH
X-WR-CALNAME:DIOCESI DI ROMA
X-ORIGINAL-URL:https://www.diocesidiroma.it
X-WR-CALDESC:Eventi per DIOCESI DI ROMA
BEGIN:VEVENT
DTSTART;TZID=Europe/Rome:20231130T103000
DTEND;TZID=Europe/Rome:20231130T103000
DTSTAMP:20260423T201633
CREATED:20231127T082134Z
LAST-MODIFIED:20231127T082134Z
UID:28004-1701340200-1701340200@www.diocesidiroma.it
SUMMARY:A Ponte Galeria nella Casa delle Figlie della Chiesa partecipa all’incontro dei Parroci di prima nomina organizzato dall’Ufficio per la Formazione Permanente del Clero
DESCRIPTION:A Ponte Galeria nella Casa delle Figlie della Chiesa partecipa all’incontro dei Parroci di prima nomina organizzato dall’Ufficio per la Formazione Permanente del Clero. \n
URL:https://www.diocesidiroma.it/event/a-ponte-galeria-nella-casa-delle-figlie-della-chiesa-partecipa-allincontro-dei-parroci-di-prima-nomina-organizzato-dallufficio-per-la-formazione-permanente-del-clero/
CATEGORIES:NON USARE --- Agenda del Vicario
END:VEVENT
END:VCALENDAR