BEGIN:VCALENDAR
VERSION:2.0
PRODID:-//DIOCESI DI ROMA - ECPv4.6.14.1//NONSGML v1.0//EN
CALSCALE:GREGORIAN
METHOD:PUBLISH
X-WR-CALNAME:DIOCESI DI ROMA
X-ORIGINAL-URL:https://www.diocesidiroma.it
X-WR-CALDESC:Eventi per DIOCESI DI ROMA
BEGIN:VEVENT
DTSTART;VALUE=DATE:20250610
DTEND;VALUE=DATE:20250611
DTSTAMP:20260422T183200
CREATED:20250605T094048Z
LAST-MODIFIED:20250605T094048Z
UID:35971-1749513600-1749599999@www.diocesidiroma.it
SUMMARY:A Ragusa partecipa alla XXXIII Giornata sacerdotale mariana e presiede l’Eucarestia
DESCRIPTION:A Ragusa partecipa alla XXXIII Giornata sacerdotale mariana e presiede l’Eucarestia \n
URL:https://www.diocesidiroma.it/event/a-ragusa-partecipa-alla-xxxiii-giornata-sacerdotale-mariana-e-presiede-leucarestia/
CATEGORIES:Vicario Generale
END:VEVENT
END:VCALENDAR