BEGIN:VCALENDAR
VERSION:2.0
PRODID:-//DIOCESI DI ROMA - ECPv4.6.14.1//NONSGML v1.0//EN
CALSCALE:GREGORIAN
METHOD:PUBLISH
X-WR-CALNAME:DIOCESI DI ROMA
X-ORIGINAL-URL:https://www.diocesidiroma.it
X-WR-CALDESC:Eventi per DIOCESI DI ROMA
BEGIN:VEVENT
DTSTART;TZID=Europe/Rome:20190215T160000
DTEND;TZID=Europe/Rome:20190215T160000
DTSTAMP:20260420T220350
CREATED:20190208T092458Z
LAST-MODIFIED:20190208T092458Z
UID:6396-1550246400-1550246400@www.diocesidiroma.it
SUMMARY:A Sacrofano\, concelebra la Messa presieduta dal Santo Padre in occasione del meeting “Comunità accoglienti: liberi dalla paura”
DESCRIPTION:A Sacrofano\, concelebra la Messa presieduta dal Santo Padre in occasione del meeting “Comunità accoglienti: liberi dalla paura”. \n
URL:https://www.diocesidiroma.it/event/a-sacrofano-concelebra-la-messa-presieduta-dal-santo-padre-in-occasione-del-meeting-comunita-accoglienti-liberi-dalla-paura/
CATEGORIES:NON USARE --- Agenda del Vicario
END:VEVENT
END:VCALENDAR