BEGIN:VCALENDAR
VERSION:2.0
PRODID:-//DIOCESI DI ROMA - ECPv4.6.14.1//NONSGML v1.0//EN
CALSCALE:GREGORIAN
METHOD:PUBLISH
X-WR-CALNAME:DIOCESI DI ROMA
X-ORIGINAL-URL:https://www.diocesidiroma.it
X-WR-CALDESC:Eventi per DIOCESI DI ROMA
BEGIN:VEVENT
DTSTART;TZID=Europe/Rome:20250919T170000
DTEND;TZID=Europe/Rome:20250919T170000
DTSTAMP:20260424T034130
CREATED:20250912T095706Z
LAST-MODIFIED:20250912T095706Z
UID:37208-1758301200-1758301200@www.diocesidiroma.it
SUMMARY:A San Giovanni in Laterano\, assemblea diocesana presieduta da Sua Santità Papa Leone XIV
DESCRIPTION:A San Giovanni in Laterano\, assemblea diocesana presieduta da Sua Santità Papa Leone XIV \n
URL:https://www.diocesidiroma.it/event/a-san-giovanni-in-laterano-assemblea-diocesana-presieduta-da-sua-santita-papa-leone-xiv/
CATEGORIES:Vicario Generale
END:VEVENT
END:VCALENDAR