BEGIN:VCALENDAR
VERSION:2.0
PRODID:-//DIOCESI DI ROMA - ECPv4.6.14.1//NONSGML v1.0//EN
CALSCALE:GREGORIAN
METHOD:PUBLISH
X-WR-CALNAME:DIOCESI DI ROMA
X-ORIGINAL-URL:https://www.diocesidiroma.it
X-WR-CALDESC:Eventi per DIOCESI DI ROMA
BEGIN:VEVENT
DTSTART;TZID=Europe/Rome:20250921T103000
DTEND;TZID=Europe/Rome:20250921T103000
DTSTAMP:20260422T114443
CREATED:20250912T100021Z
LAST-MODIFIED:20250912T100021Z
UID:37214-1758450600-1758450600@www.diocesidiroma.it
SUMMARY:A San Giovanni in Laterano\, Giubileo degli Amministratori della Regione Lazio
DESCRIPTION:A San Giovanni in Laterano\, Giubileo degli Amministratori della Regione Lazio \n
URL:https://www.diocesidiroma.it/event/a-san-giovanni-in-laterano-giubileo-degli-amministratori-della-regione-lazio/
CATEGORIES:Vicario Generale
END:VEVENT
END:VCALENDAR