BEGIN:VCALENDAR
VERSION:2.0
PRODID:-//DIOCESI DI ROMA - ECPv4.6.14.1//NONSGML v1.0//EN
CALSCALE:GREGORIAN
METHOD:PUBLISH
X-WR-CALNAME:DIOCESI DI ROMA
X-ORIGINAL-URL:https://www.diocesidiroma.it
X-WR-CALDESC:Eventi per DIOCESI DI ROMA
BEGIN:VEVENT
DTSTART;TZID=Europe/Rome:20251121T203000
DTEND;TZID=Europe/Rome:20251121T230000
DTSTAMP:20260422T001038
CREATED:20251114T093711Z
LAST-MODIFIED:20251114T093711Z
UID:38576-1763757000-1763766000@www.diocesidiroma.it
SUMMARY:A San Giovanni in Laterano per l’evento dedicato ai giovani “Notte in Cattedrale” 
DESCRIPTION:A San Giovanni in Laterano per l’evento dedicato ai giovani “Notte in Cattedrale”  \n
URL:https://www.diocesidiroma.it/event/a-san-giovanni-in-laterano-per-levento-dedicato-ai-giovani-notte-in-cattedrale/
CATEGORIES:Vicario Generale
END:VEVENT
END:VCALENDAR