BEGIN:VCALENDAR
VERSION:2.0
PRODID:-//DIOCESI DI ROMA - ECPv4.6.14.1//NONSGML v1.0//EN
CALSCALE:GREGORIAN
METHOD:PUBLISH
X-WR-CALNAME:DIOCESI DI ROMA
X-ORIGINAL-URL:https://www.diocesidiroma.it
X-WR-CALDESC:Eventi per DIOCESI DI ROMA
BEGIN:VEVENT
DTSTART;TZID=Europe/Rome:20250224T120000
DTEND;TZID=Europe/Rome:20250224T120000
DTSTAMP:20260424T200219
CREATED:20250221T073809Z
LAST-MODIFIED:20250221T073809Z
UID:34032-1740398400-1740398400@www.diocesidiroma.it
SUMMARY:A San Giovanni in Laterano\, Santa Messa con la comunità ucraina
DESCRIPTION:A San Giovanni in Laterano\, Santa Messa con la comunità ucraina \n
URL:https://www.diocesidiroma.it/event/a-san-giovanni-in-laterano-santa-messa-con-la-comunita-ucraina/
CATEGORIES:Vicario Generale
END:VEVENT
END:VCALENDAR