BEGIN:VCALENDAR
VERSION:2.0
PRODID:-//DIOCESI DI ROMA - ECPv4.6.14.1//NONSGML v1.0//EN
CALSCALE:GREGORIAN
METHOD:PUBLISH
X-WR-CALNAME:DIOCESI DI ROMA
X-ORIGINAL-URL:https://www.diocesidiroma.it
X-WR-CALDESC:Eventi per DIOCESI DI ROMA
BEGIN:VEVENT
DTSTART;TZID=Europe/Rome:20250314T180000
DTEND;TZID=Europe/Rome:20250314T180000
DTSTAMP:20260425T022005
CREATED:20250307T141521Z
LAST-MODIFIED:20250307T141521Z
UID:34344-1741975200-1741975200@www.diocesidiroma.it
SUMMARY:A San Giuseppe e Santa Maria Assunta a Primavalle: Messa e ritiro spirituale quaresimale
DESCRIPTION:A San Giuseppe e Santa Maria Assunta a Primavalle: Messa e ritiro spirituale quaresimale \n
URL:https://www.diocesidiroma.it/event/a-san-giuseppe-e-santa-maria-assunta-a-primavalle-messa-e-ritiro-spirituale-quaresimale/
CATEGORIES:Vicario Generale
END:VEVENT
END:VCALENDAR