BEGIN:VCALENDAR
VERSION:2.0
PRODID:-//DIOCESI DI ROMA - ECPv4.6.14.1//NONSGML v1.0//EN
CALSCALE:GREGORIAN
METHOD:PUBLISH
X-WR-CALNAME:DIOCESI DI ROMA
X-ORIGINAL-URL:https://www.diocesidiroma.it
X-WR-CALDESC:Eventi per DIOCESI DI ROMA
BEGIN:VEVENT
DTSTART;TZID=Europe/Rome:20181128T190000
DTEND;TZID=Europe/Rome:20181128T190000
DTSTAMP:20260422T114609
CREATED:20181123T091425Z
LAST-MODIFIED:20181123T091425Z
UID:5639-1543431600-1543431600@www.diocesidiroma.it
SUMMARY:A San Marco Evangelista partecipa alla presentazione del libro “La bellezza del creato” del professor Antonio Zichichi
DESCRIPTION:Nella parrocchia di San Marco Evangelista partecipa alla presentazione del libro “La bellezza del creato” del professor Antonio Zichichi. \n
URL:https://www.diocesidiroma.it/event/a-san-marco-evangelista-partecipa-alla-presentazione-del-libro-la-bellezza-del-creato-del-professor-antonio-zichichi/
CATEGORIES:NON USARE --- Agenda del Vicario
END:VEVENT
END:VCALENDAR