BEGIN:VCALENDAR
VERSION:2.0
PRODID:-//DIOCESI DI ROMA - ECPv4.6.14.1//NONSGML v1.0//EN
CALSCALE:GREGORIAN
METHOD:PUBLISH
X-WR-CALNAME:DIOCESI DI ROMA
X-ORIGINAL-URL:https://www.diocesidiroma.it
X-WR-CALDESC:Eventi per DIOCESI DI ROMA
BEGIN:VEVENT
DTSTART;TZID=Europe/Rome:20190118T173000
DTEND;TZID=Europe/Rome:20190118T173000
DTSTAMP:20260421T010905
CREATED:20190114T074939Z
LAST-MODIFIED:20190114T074939Z
UID:6065-1547832600-1547832600@www.diocesidiroma.it
SUMMARY:A San Paolo fuori le Mura partecipa ai Vespri all'inizio dell'ottavario di preghiera per l'unità dei cristiani presieduti da Papa Francesco
DESCRIPTION:A San Paolo fuori le Mura partecipa ai Vespri all’inizio dell’ottavario di preghiera per l’unità dei cristiani presieduti da Papa Francesco.  \n
URL:https://www.diocesidiroma.it/event/a-san-paolo-fuori-le-mura-partecipa-ai-vespri-allinizio-dellottavario-di-preghiera-per-lunita-dei-cristiani-presieduti-da-papa-francesco/
CATEGORIES:NON USARE --- Agenda del Vicario
END:VEVENT
END:VCALENDAR