BEGIN:VCALENDAR
VERSION:2.0
PRODID:-//DIOCESI DI ROMA - ECPv4.6.14.1//NONSGML v1.0//EN
CALSCALE:GREGORIAN
METHOD:PUBLISH
X-WR-CALNAME:DIOCESI DI ROMA
X-ORIGINAL-URL:https://www.diocesidiroma.it
X-WR-CALDESC:Eventi per DIOCESI DI ROMA
BEGIN:VEVENT
DTSTART;TZID=Europe/Rome:20251213T100000
DTEND;TZID=Europe/Rome:20251213T100000
DTSTAMP:20260423T162308
CREATED:20251206T122723Z
LAST-MODIFIED:20251206T122723Z
UID:38980-1765620000-1765620000@www.diocesidiroma.it
SUMMARY:A Siracusa per la Solennità di Santa Lucia
DESCRIPTION:A Siracusa per la Solennità di Santa Lucia \n
URL:https://www.diocesidiroma.it/event/a-siracusa-per-la-solennita-di-santa-lucia/
CATEGORIES:Vicario Generale
END:VEVENT
END:VCALENDAR