BEGIN:VCALENDAR
VERSION:2.0
PRODID:-//DIOCESI DI ROMA - ECPv4.6.14.1//NONSGML v1.0//EN
CALSCALE:GREGORIAN
METHOD:PUBLISH
X-WR-CALNAME:DIOCESI DI ROMA
X-ORIGINAL-URL:https://www.diocesidiroma.it
X-WR-CALDESC:Eventi per DIOCESI DI ROMA
BEGIN:VEVENT
DTSTART;TZID=Europe/Rome:20230619T100000
DTEND;TZID=Europe/Rome:20230619T100000
DTSTAMP:20260420T231816
CREATED:20230619T094752Z
LAST-MODIFIED:20230619T094752Z
UID:26645-1687168800-1687168800@www.diocesidiroma.it
SUMMARY:A Villa Campitelli a Frascati presiede i lavori della Conferenza Episcopale Laziale
DESCRIPTION:A Villa Campitelli a Frascati presiede i lavori della Conferenza Episcopale Laziale \n
URL:https://www.diocesidiroma.it/event/a-villa-campitelli-a-frascati-presiede-i-lavori-della-conferenza-episcopale-laziale-11/
CATEGORIES:NON USARE --- Agenda del Vicario
END:VEVENT
END:VCALENDAR