BEGIN:VCALENDAR
VERSION:2.0
PRODID:-//DIOCESI DI ROMA - ECPv4.6.14.1//NONSGML v1.0//EN
CALSCALE:GREGORIAN
METHOD:PUBLISH
X-WR-CALNAME:DIOCESI DI ROMA
X-ORIGINAL-URL:https://www.diocesidiroma.it
X-WR-CALDESC:Eventi per DIOCESI DI ROMA
BEGIN:VEVENT
DTSTART;TZID=Europe/Rome:20190303T160000
DTEND;TZID=Europe/Rome:20190303T160000
DTSTAMP:20260423T182459
CREATED:20190222T100723Z
LAST-MODIFIED:20190222T100723Z
UID:6735-1551628800-1551628800@www.diocesidiroma.it
SUMMARY:Accoglie il Santo Padre in visita alla parrocchia di San Crispino da Viterbo
DESCRIPTION:Accoglie il Santo Padre in visita alla parrocchia di San Crispino da Viterbo. \n
URL:https://www.diocesidiroma.it/event/accoglie-il-santo-padre-in-visita-alla-parrocchia-di-san-crispino-da-viterbo/
CATEGORIES:NON USARE --- Agenda del Vicario
END:VEVENT
END:VCALENDAR