BEGIN:VCALENDAR
VERSION:2.0
PRODID:-//DIOCESI DI ROMA - ECPv4.6.14.1//NONSGML v1.0//EN
CALSCALE:GREGORIAN
METHOD:PUBLISH
X-WR-CALNAME:DIOCESI DI ROMA
X-ORIGINAL-URL:https://www.diocesidiroma.it
X-WR-CALDESC:Eventi per DIOCESI DI ROMA
BEGIN:VEVENT
DTSTART;VALUE=DATE:20171126
DTEND;VALUE=DATE:20171127
DTSTAMP:20260425T113259
CREATED:20171228T115917Z
LAST-MODIFIED:20171228T115917Z
UID:444-1511654400-1511740799@www.diocesidiroma.it
SUMMARY:Adorazione Eucaristica nella Basilica di S. Giovanni in Laterano
DESCRIPTION:
URL:https://www.diocesidiroma.it/event/adorazione-eucaristica-nella-basilica-di-s-giovanni-in-laterano/
CATEGORIES:Iniziative degli Uffici
END:VEVENT
END:VCALENDAR