BEGIN:VCALENDAR
VERSION:2.0
PRODID:-//DIOCESI DI ROMA - ECPv4.6.14.1//NONSGML v1.0//EN
CALSCALE:GREGORIAN
METHOD:PUBLISH
X-WR-CALNAME:DIOCESI DI ROMA
X-ORIGINAL-URL:https://www.diocesidiroma.it
X-WR-CALDESC:Eventi per DIOCESI DI ROMA
BEGIN:VEVENT
DTSTART;TZID=Europe/Rome:20190214T110000
DTEND;TZID=Europe/Rome:20190214T110000
DTSTAMP:20260421T032545
CREATED:20190208T092253Z
LAST-MODIFIED:20190208T092253Z
UID:6390-1550142000-1550142000@www.diocesidiroma.it
SUMMARY:Al Collegio diocesano Redemptoris Mater incontra la Comunità in occasione della festa dei Santi Cirillo e Metodio e celebra la Messa con il rito dell’ammissione agli ordini sacri
DESCRIPTION:Al Collegio diocesano Redemptoris Mater incontra la Comunità in occasione della festa dei Santi Cirillo e Metodio e celebra la Messa con il rito dell’ammissione agli ordini sacri. \n
URL:https://www.diocesidiroma.it/event/al-collegio-diocesano-redemptoris-mater-incontra-la-comunita-in-occasione-della-festa-dei-santi-cirillo-e-metodio-e-celebra-la-messa-con-il-rito-dellammissione-agli-ordini-sacri/
CATEGORIES:NON USARE --- Agenda del Vicario
END:VEVENT
END:VCALENDAR