BEGIN:VCALENDAR
VERSION:2.0
PRODID:-//DIOCESI DI ROMA - ECPv4.6.14.1//NONSGML v1.0//EN
CALSCALE:GREGORIAN
METHOD:PUBLISH
X-WR-CALNAME:DIOCESI DI ROMA
X-ORIGINAL-URL:https://www.diocesidiroma.it
X-WR-CALDESC:Eventi per DIOCESI DI ROMA
BEGIN:VEVENT
DTSTART;TZID=Europe/Rome:20210202T110000
DTEND;TZID=Europe/Rome:20210202T110000
DTSTAMP:20260421T154122
CREATED:20210129T101542Z
LAST-MODIFIED:20210129T101557Z
UID:13351-1612263600-1612263600@www.diocesidiroma.it
SUMMARY:Al Consiglio di Stato partecipa alla Relazione del Presidente sull’attività della Giustizia amministrativa per l’anno appena trascorso
DESCRIPTION:Al Consiglio di Stato partecipa alla Relazione del Presidente sull’attività della Giustizia amministrativa per l’anno appena trascorso. \n
URL:https://www.diocesidiroma.it/event/al-consiglio-di-stato-partecipa-alla-relazione-del-presidente-sullattivita-della-giustizia-amministrativa-per-lanno-appena-trascorso-2/
CATEGORIES:NON USARE --- Agenda del Vicario
END:VEVENT
END:VCALENDAR