BEGIN:VCALENDAR
VERSION:2.0
PRODID:-//DIOCESI DI ROMA - ECPv4.6.14.1//NONSGML v1.0//EN
CALSCALE:GREGORIAN
METHOD:PUBLISH
X-WR-CALNAME:DIOCESI DI ROMA
X-ORIGINAL-URL:https://www.diocesidiroma.it
X-WR-CALDESC:Eventi per DIOCESI DI ROMA
BEGIN:VEVENT
DTSTART;TZID=Europe/Rome:20240205T110000
DTEND;TZID=Europe/Rome:20240205T110000
DTSTAMP:20260422T233404
CREATED:20240202T093419Z
LAST-MODIFIED:20240202T093419Z
UID:28775-1707130800-1707130800@www.diocesidiroma.it
SUMMARY:Al Consiglio di Stato partecipa all’inaugurazione dell’Anno Giudiziario con la Relazione del Presidente sull’attività della Giustizia amministrativa per l’anno appena trascorso
DESCRIPTION:Al Consiglio di Stato partecipa all’inaugurazione dell’Anno Giudiziario con la Relazione del Presidente sull’attività della Giustizia amministrativa per l’anno appena trascorso. \n
URL:https://www.diocesidiroma.it/event/al-consiglio-di-stato-partecipa-allinaugurazione-dellanno-giudiziario-con-la-relazione-del-presidente-sullattivita-della-giustizia-amministrativa-per-lanno-appena-t/
CATEGORIES:NON USARE --- Agenda del Vicario
END:VEVENT
END:VCALENDAR