BEGIN:VCALENDAR
VERSION:2.0
PRODID:-//DIOCESI DI ROMA - ECPv4.6.14.1//NONSGML v1.0//EN
CALSCALE:GREGORIAN
METHOD:PUBLISH
X-WR-CALNAME:DIOCESI DI ROMA
X-ORIGINAL-URL:https://www.diocesidiroma.it
X-WR-CALDESC:Eventi per DIOCESI DI ROMA
BEGIN:VEVENT
DTSTART;TZID=Europe/Rome:20230423T000000
DTEND;TZID=Europe/Rome:20230428T000000
DTSTAMP:20260421T082515
CREATED:20230421T102023Z
LAST-MODIFIED:20230421T102023Z
UID:26073-1682208000-1682640000@www.diocesidiroma.it
SUMMARY:Al Monastero della Resurrezione di Montefiolo predica gli esercizi spirituali agli ordinandi presbiteri della diocesi.
DESCRIPTION:Al Monastero della Resurrezione di Montefiolo predica gli esercizi spirituali agli ordinandi presbiteri della diocesi. \n
URL:https://www.diocesidiroma.it/event/al-monastero-della-resurrezione-di-montefiolo-predica-gli-esercizi-spirituali-agli-ordinandi-presbiteri-della-diocesi-2/
CATEGORIES:NON USARE --- Agenda del Vicario
END:VEVENT
END:VCALENDAR