BEGIN:VCALENDAR
VERSION:2.0
PRODID:-//DIOCESI DI ROMA - ECPv4.6.14.1//NONSGML v1.0//EN
CALSCALE:GREGORIAN
METHOD:PUBLISH
X-WR-CALNAME:DIOCESI DI ROMA
X-ORIGINAL-URL:https://www.diocesidiroma.it
X-WR-CALDESC:Eventi per DIOCESI DI ROMA
BEGIN:VEVENT
DTSTART;TZID=Europe/Rome:20231122T180000
DTEND;TZID=Europe/Rome:20231122T180000
DTSTAMP:20260422T161941
CREATED:20231117T161105Z
LAST-MODIFIED:20231117T161105Z
UID:27976-1700676000-1700676000@www.diocesidiroma.it
SUMMARY:Al Monastero di Montefiolo celebra la Messa in occasione degli esercizi spirituali per i viceparroci
DESCRIPTION:Al Monastero di Montefiolo celebra la Messa in occasione degli esercizi spirituali per i viceparroci.  \n
URL:https://www.diocesidiroma.it/event/al-monastero-di-montefiolo-celebra-la-messa-in-occasione-degli-esercizi-spirituali-per-i-viceparroci/
CATEGORIES:NON USARE --- Agenda del Vicario
END:VEVENT
END:VCALENDAR