BEGIN:VCALENDAR
VERSION:2.0
PRODID:-//DIOCESI DI ROMA - ECPv4.6.14.1//NONSGML v1.0//EN
CALSCALE:GREGORIAN
METHOD:PUBLISH
X-WR-CALNAME:DIOCESI DI ROMA
X-ORIGINAL-URL:https://www.diocesidiroma.it
X-WR-CALDESC:Eventi per DIOCESI DI ROMA
BEGIN:VEVENT
DTSTART;TZID=Europe/Rome:20220117T180000
DTEND;TZID=Europe/Rome:20220117T180000
DTSTAMP:20260420T165803
CREATED:20220114T104004Z
LAST-MODIFIED:20220114T104004Z
UID:19900-1642442400-1642442400@www.diocesidiroma.it
SUMMARY: Al Museo Ebraico di Roma partecipa alla Giornata di riflessione ebraico-cristiana trasmessa in diretta su Telepace
DESCRIPTION: Al Museo Ebraico di Roma partecipa alla Giornata di riflessione ebraico-cristiana trasmessa in diretta su Telepace. \n
URL:https://www.diocesidiroma.it/event/al-museo-ebraico-di-roma-partecipa-alla-giornata-di-riflessione-ebraico-cristiana-trasmessa-in-diretta-su-telepace/
CATEGORIES:NON USARE --- Agenda del Vicario
END:VEVENT
END:VCALENDAR