BEGIN:VCALENDAR
VERSION:2.0
PRODID:-//DIOCESI DI ROMA - ECPv4.6.14.1//NONSGML v1.0//EN
CALSCALE:GREGORIAN
METHOD:PUBLISH
X-WR-CALNAME:DIOCESI DI ROMA
X-ORIGINAL-URL:https://www.diocesidiroma.it
X-WR-CALDESC:Eventi per DIOCESI DI ROMA
BEGIN:VEVENT
DTSTART;TZID=Europe/Rome:20240217T170000
DTEND;TZID=Europe/Rome:20240217T170000
DTSTAMP:20260422T193040
CREATED:20240209T131328Z
LAST-MODIFIED:20240209T131328Z
UID:28845-1708189200-1708189200@www.diocesidiroma.it
SUMMARY:Al Museo Lateranense saluta i partecipanti alla Giornata delle Arti dal titolo “La via della bellezza”
DESCRIPTION:Al Museo Lateranense saluta i partecipanti alla Giornata delle Arti dal titolo “La via della bellezza”.  \n
URL:https://www.diocesidiroma.it/event/al-museo-lateranense-saluta-i-partecipanti-alla-giornata-delle-arti-dal-titolo-la-via-della-bellezza/
CATEGORIES:NON USARE --- Agenda del Vicario
END:VEVENT
END:VCALENDAR