BEGIN:VCALENDAR
VERSION:2.0
PRODID:-//DIOCESI DI ROMA - ECPv4.6.14.1//NONSGML v1.0//EN
CALSCALE:GREGORIAN
METHOD:PUBLISH
X-WR-CALNAME:DIOCESI DI ROMA
X-ORIGINAL-URL:https://www.diocesidiroma.it
X-WR-CALDESC:Eventi per DIOCESI DI ROMA
BEGIN:VEVENT
DTSTART;TZID=Europe/Rome:20231221T093000
DTEND;TZID=Europe/Rome:20231221T093000
DTSTAMP:20260424T104148
CREATED:20231215T112123Z
LAST-MODIFIED:20231215T112123Z
UID:28170-1703151000-1703151000@www.diocesidiroma.it
SUMMARY:Al Palazzo del Quirinale celebra la Messa per la Presidenza della Repubblica
DESCRIPTION:Al Palazzo del Quirinale celebra la Messa per la Presidenza della Repubblica \n
URL:https://www.diocesidiroma.it/event/al-palazzo-del-quirinale-celebra-la-messa-per-la-presidenza-della-repubblica-3/
CATEGORIES:NON USARE --- Agenda del Vicario
END:VEVENT
END:VCALENDAR