BEGIN:VCALENDAR
VERSION:2.0
PRODID:-//DIOCESI DI ROMA - ECPv4.6.14.1//NONSGML v1.0//EN
CALSCALE:GREGORIAN
METHOD:PUBLISH
X-WR-CALNAME:DIOCESI DI ROMA
X-ORIGINAL-URL:https://www.diocesidiroma.it
X-WR-CALDESC:Eventi per DIOCESI DI ROMA
BEGIN:VEVENT
DTSTART;TZID=Europe/Rome:20181025T093000
DTEND;TZID=Europe/Rome:20181025T093000
DTSTAMP:20260423T212230
CREATED:20181019T102835Z
LAST-MODIFIED:20181019T102835Z
UID:5252-1540459800-1540459800@www.diocesidiroma.it
SUMMARY:Al Palazzo della Cancelleria partecipa al Convegno in memoria del cardinale Attilio Nicora
DESCRIPTION:Al Palazzo della Cancelleria partecipa al Convegno in memoria del cardinale Attilio Nicora. \n
URL:https://www.diocesidiroma.it/event/al-palazzo-della-cancelleria-partecipa-al-convegno-in-memoria-del-cardinale-attilio-nicora/
CATEGORIES:NON USARE --- Agenda del Vicario
END:VEVENT
END:VCALENDAR