BEGIN:VCALENDAR
VERSION:2.0
PRODID:-//DIOCESI DI ROMA - ECPv4.6.14.1//NONSGML v1.0//EN
CALSCALE:GREGORIAN
METHOD:PUBLISH
X-WR-CALNAME:DIOCESI DI ROMA
X-ORIGINAL-URL:https://www.diocesidiroma.it
X-WR-CALDESC:Eventi per DIOCESI DI ROMA
BEGIN:VEVENT
DTSTART;TZID=Europe/Rome:20181206T100000
DTEND;TZID=Europe/Rome:20181206T100000
DTSTAMP:20260421T182959
CREATED:20181130T090142Z
LAST-MODIFIED:20181130T090142Z
UID:5726-1544090400-1544090400@www.diocesidiroma.it
SUMMARY:Al Policlinico Gemelli partecipa al Convegno “Curare con il cuore” organizzato dall’Università Cattolica del Sacro Cuore e dalla Fondazione Policlinico Universitario Policlinico Gemelli
DESCRIPTION:Al Policlinico Gemelli partecipa al Convegno “Curare con il cuore” organizzato dall’Università Cattolica del Sacro Cuore e dalla Fondazione Policlinico Universitario Policlinico Gemelli. \n
URL:https://www.diocesidiroma.it/event/al-policlinico-gemelli-partecipa-al-convegno-curare-con-il-cuore-organizzato-dalluniversita-cattolica-del-sacro-cuore-e-dalla-fondazione-policlinico-universitario-policlinic/
CATEGORIES:NON USARE --- Agenda del Vicario
END:VEVENT
END:VCALENDAR