BEGIN:VCALENDAR
VERSION:2.0
PRODID:-//DIOCESI DI ROMA - ECPv4.6.14.1//NONSGML v1.0//EN
CALSCALE:GREGORIAN
METHOD:PUBLISH
X-WR-CALNAME:DIOCESI DI ROMA
X-ORIGINAL-URL:https://www.diocesidiroma.it
X-WR-CALDESC:Eventi per DIOCESI DI ROMA
BEGIN:VEVENT
DTSTART;TZID=Europe/Rome:20240201T160000
DTEND;TZID=Europe/Rome:20240201T160000
DTSTAMP:20260421T183027
CREATED:20240126T083901Z
LAST-MODIFIED:20240126T083901Z
UID:28717-1706803200-1706803200@www.diocesidiroma.it
SUMMARY:Al Pontificio Istituto Teologico Giovanni Paolo II presiede il primo incontro del percorso di formazione in Dottrina Sociale della Chiesa per animatori della carità
DESCRIPTION:Al Pontificio Istituto Teologico Giovanni Paolo II presiede il primo incontro del percorso di formazione in Dottrina Sociale della Chiesa per animatori della carità \n
URL:https://www.diocesidiroma.it/event/al-pontificio-istituto-teologico-giovanni-paolo-ii-presiede-il-primo-incontro-del-percorso-di-formazione-in-dottrina-sociale-della-chiesa-per-animatori-della-carita/
CATEGORIES:NON USARE --- Agenda del Vicario
END:VEVENT
END:VCALENDAR