BEGIN:VCALENDAR
VERSION:2.0
PRODID:-//DIOCESI DI ROMA - ECPv4.6.14.1//NONSGML v1.0//EN
CALSCALE:GREGORIAN
METHOD:PUBLISH
X-WR-CALNAME:DIOCESI DI ROMA
X-ORIGINAL-URL:https://www.diocesidiroma.it
X-WR-CALDESC:Eventi per DIOCESI DI ROMA
BEGIN:VEVENT
DTSTART;TZID=Europe/Rome:20181121T190000
DTEND;TZID=Europe/Rome:20181121T190000
DTSTAMP:20260422T013853
CREATED:20181115T091206Z
LAST-MODIFIED:20181115T091206Z
UID:5535-1542826800-1542826800@www.diocesidiroma.it
SUMMARY:Al Pontificio Seminario Lombardo presiede la preghiera del Vespro
DESCRIPTION:Al Pontificio Seminario Lombardo presiede la preghiera del Vespro. \n
URL:https://www.diocesidiroma.it/event/al-pontificio-seminario-lombardo-presiede-la-preghiera-del-vespro/
CATEGORIES:NON USARE --- Agenda del Vicario
END:VEVENT
END:VCALENDAR