BEGIN:VCALENDAR
VERSION:2.0
PRODID:-//DIOCESI DI ROMA - ECPv4.6.14.1//NONSGML v1.0//EN
CALSCALE:GREGORIAN
METHOD:PUBLISH
X-WR-CALNAME:DIOCESI DI ROMA
X-ORIGINAL-URL:https://www.diocesidiroma.it
X-WR-CALDESC:Eventi per DIOCESI DI ROMA
BEGIN:VEVENT
DTSTART;TZID=Europe/Rome:20231219T190000
DTEND;TZID=Europe/Rome:20231219T190000
DTSTAMP:20260424T163334
CREATED:20231215T112039Z
LAST-MODIFIED:20231215T112053Z
UID:28168-1703012400-1703012400@www.diocesidiroma.it
SUMMARY:Al Pontificio Seminario Romano Maggiore celebra la Messa con la comunità in occasione allo scambio degli auguri natalizi
DESCRIPTION:Al Pontificio Seminario Romano Maggiore celebra la Messa con la comunità in occasione allo scambio degli auguri natalizi. \n
URL:https://www.diocesidiroma.it/event/al-pontificio-seminario-romano-maggiore-celebra-la-messa-con-la-comunita-in-occasione-allo-scambio-degli-auguri-natalizi/
CATEGORIES:NON USARE --- Agenda del Vicario
END:VEVENT
END:VCALENDAR