BEGIN:VCALENDAR
VERSION:2.0
PRODID:-//DIOCESI DI ROMA - ECPv4.6.14.1//NONSGML v1.0//EN
CALSCALE:GREGORIAN
METHOD:PUBLISH
X-WR-CALNAME:DIOCESI DI ROMA
X-ORIGINAL-URL:https://www.diocesidiroma.it
X-WR-CALDESC:Eventi per DIOCESI DI ROMA
BEGIN:VEVENT
DTSTART;TZID=Europe/Rome:20191220T183000
DTEND;TZID=Europe/Rome:20191220T183000
DTSTAMP:20260424T161059
CREATED:20191213T104402Z
LAST-MODIFIED:20191213T104402Z
UID:9560-1576866600-1576866600@www.diocesidiroma.it
SUMMARY:Al Pontificio Seminario Romano Maggiore celebra la Messa e incontra la comunità
DESCRIPTION: Al Pontificio Seminario Romano Maggiore celebra la Messa e incontra la comunità. \n
URL:https://www.diocesidiroma.it/event/al-pontificio-seminario-romano-maggiore-celebra-la-messa-e-incontra-la-comunita/
CATEGORIES:NON USARE --- Agenda del Vicario
END:VEVENT
END:VCALENDAR