BEGIN:VCALENDAR
VERSION:2.0
PRODID:-//DIOCESI DI ROMA - ECPv4.6.14.1//NONSGML v1.0//EN
CALSCALE:GREGORIAN
METHOD:PUBLISH
X-WR-CALNAME:DIOCESI DI ROMA
X-ORIGINAL-URL:https://www.diocesidiroma.it
X-WR-CALDESC:Eventi per DIOCESI DI ROMA
BEGIN:VEVENT
DTSTART;TZID=Europe/Rome:20220226T110000
DTEND;TZID=Europe/Rome:20220226T110000
DTSTAMP:20260421T192616
CREATED:20220218T113834Z
LAST-MODIFIED:20220218T113834Z
UID:20370-1645873200-1645873200@www.diocesidiroma.it
SUMMARY:Al Pontificio Seminario Romano Maggiore celebra la Messa in occasione della Festa della Madonna della Fiducia
DESCRIPTION:Al Pontificio Seminario Romano Maggiore celebra la Messa in occasione della Festa della Madonna della Fiducia. \n
URL:https://www.diocesidiroma.it/event/al-pontificio-seminario-romano-maggiore-celebra-la-messa-in-occasione-della-festa-della-madonna-della-fiducia/
CATEGORIES:NON USARE --- Agenda del Vicario
END:VEVENT
END:VCALENDAR