BEGIN:VCALENDAR
VERSION:2.0
PRODID:-//DIOCESI DI ROMA - ECPv4.6.14.1//NONSGML v1.0//EN
CALSCALE:GREGORIAN
METHOD:PUBLISH
X-WR-CALNAME:DIOCESI DI ROMA
X-ORIGINAL-URL:https://www.diocesidiroma.it
X-WR-CALDESC:Eventi per DIOCESI DI ROMA
BEGIN:VEVENT
DTSTART;TZID=Europe/Rome:20201001T090000
DTEND;TZID=Europe/Rome:20201001T090000
DTSTAMP:20260424T165545
CREATED:20200925T080324Z
LAST-MODIFIED:20200925T080757Z
UID:11887-1601542800-1601542800@www.diocesidiroma.it
SUMMARY:Al Pontificio Seminario Romano Maggiore incontra i formatori
DESCRIPTION: Al Pontificio Seminario Romano Maggiore incontra i formatori. \n
URL:https://www.diocesidiroma.it/event/al-pontificio-seminario-romano-maggiore-incontra-i-formatori/
CATEGORIES:NON USARE --- Agenda del Vicario
END:VEVENT
END:VCALENDAR